BEGIN:VCALENDAR
VERSION:2.0
PRODID:https://github.com/derhansen/sf_event_mgt
METHOD:PUBLISH
BEGIN:VEVENT
UID:27438725-6510@www.uni-vechta.de
CLASS: PUBLIC
SUMMARY:Webinar „Wasserlinse: Futtermittel der Zukunft? – Potenziale und He
 rausforderungen“ für die Agrar- und Ernährungswirtschaft
DESCRIPTION:Das Projekt ReWali und der Verbund Transformationsforschung agr
 ar Niedersachsen (trafo:agrar) laden herzlich zum\n\nWebinar „Wasserlinse: 
 Futtermittel der Zukunft? – Potenziale und Herausforderungen“ für die Agrar
 - und Ernährungswirtschaft  am Freitag, den 14. November 2025, von 09:00 bi
 s 11:00 Uhr ein.  Auf Grundlage der Ergebnisse des EIP geförderten Projekte
 s Rewali („Reduktion des Nährstoffeintrages in Gewässer sowie Produktion vo
 n Futtermittel durch Wasserlinsen“) diskutieren wir gemeinsam mit landwirts
 chaftlicher Praxis, den Forschenden der Universität Göttingen und vielen we
 iteren Akteuren aus Wirtschaft und weiteren Projekten Nutzen, Aufwand und H
 erausforderungen bei Anbau, Futterpotenzial und Nachhaltigkeit der eiweißre
 ichen kleinen Wasserpflanze mit Filterpotenzial.  Nutzen Sie die Gelegenhei
 t, sich mit Expert:innen und Projektpartner:innen zu vernetzen und im Rahme
 n inspirierender Vorträge neue Impulse für Ihre Arbeit zu gewinnen. Das det
 aillierte Programm folgt in Kürze.\n\nJetzt anmelden und dabei sein: www.tr
 afo-agrar.de/anmeldung\n\nDen Link zum Webinar erhalten Sie nach Anmeldung 
 kurz vor Veranstaltung.
DTSTAMP:20251011T124407Z
DTSTART:20251114T080000Z
DTEND:20251114T100000Z
END:VEVENT
END:VCALENDAR
