BEGIN:VCALENDAR
VERSION:2.0
PRODID:https://github.com/derhansen/sf_event_mgt
METHOD:PUBLISH
BEGIN:VEVENT
UID:22772398-6510@www.uni-vechta.de
CLASS: PUBLIC
SUMMARY:trafo:agrar Fachtagung 2025 | Thünen Institut Braunschweig
DESCRIPTION:Der Verbund Transformationsforschung agrar in Niedersachsen (tr
 afo:agrar) lädt herzlich ein zur\n\nFachtagung AgrarTransformation im Syste
 m denken: Neue Wertschöpfung aus zirkulären Systemen und intelligenter Ress
 ourcennutzung\n\nam 16. September 2025, um 9:30-17:00 Uhr\n\nim Johann Hein
 rich von Thünen-Institut in Braunschweig\n\nMit frischen Ideen und neuen Pe
 rspektiven aus Wissenschaft, Start-Ups und EIP-Projekten möchte trafo:agrar
  – gemeinsam mit dem EIP Netzwerk & Niedersachsen.next - Einblicke in zukun
 ftsorientierte Kreislaufsysteme geben. Zahlreiche Impulse aus Wissenschaft 
 und Politik gehen Fragen nach, wie wir die AgrarTransformation noch stärker
  im System denken können.\n\nAuf der Tagung wird auch zum vierten Mal der t
 rafo:nachwuchspreis vergeben, mit dem Abschlussarbeiten (Meister, Bachelor,
  Master, Promotion) sowie Arbeitsprojekte im berufsbildenden Kontext aus Ni
 edersachsen mit insgesamt 9.000 € ausgezeichnet werden.\n\nDas Programm kan
 n hier heruntergeladen werden.\n\nDie Anmeldung zur Tagung erfolgt unter: h
 ttps://trafo-agrar.de/fachtagung
DTSTAMP:20250801T110228Z
DTSTART:20250916T073000Z
DTEND:20250916T150000Z
END:VEVENT
END:VCALENDAR
