BEGIN:VCALENDAR
VERSION:2.0
PRODID:https://github.com/derhansen/sf_event_mgt
METHOD:PUBLISH
BEGIN:VEVENT
UID:19280978-6510@www.uni-vechta.de
CLASS: PUBLIC
SUMMARY:Tagung: Zukunft lernen, Wandel gestalten: Innovative Formate für Bi
 ldung für nachhaltige Entwicklung in der Hochschule
DESCRIPTION:Tagungstermin: 1.-3. September 2025\n\nTagungsort: Universität 
 Vechta\n\nBildung für nachhaltige Entwicklung (BNE) ist ein zentraler Baust
 ein für die Gestaltung einer zukunftsfähigen Gesellschaft. Hochschulen nehm
 en dabei eine Schlüsselrolle ein, indem sie nicht nur den Erwerb von Wissen
  ermöglichen, sondern auch transformative Kompetenzen fördern, die Studiere
 nde befähigen, aktiv zu einer nachhaltigen Entwicklung beizutragen.\n\nStel
 len Sie sich eine Welt vor, in der wissenschaftliches Wissen und gesellscha
 ftliche Projekte Hand in Hand gehen – eine Welt, in der Lernräume zu Lebens
 räumen werden, die etwas bewegen.\n\nDie Tagung „Zukunft lernen, Wandel ges
 talten“ widmet sich innovativen Formaten der Hochschullehre, die BNE wirksa
 m integrieren. Im Fokus stehen insbesondere didaktische Konzepte wie Servic
 e Learning, das akademisches Lernen mit konkretem gesellschaftlichem Tun ve
 rbindet, und weitere Ansätze, die Nachhaltigkeit ins Herz hochschulischer B
 ildung tragen und somit Nachhaltigkeitskompetenzen praxisnah fördern.\n\nDi
 e Tagung wird gemeinsam vom Forschungsprojekt Senatra – Service Learning un
 d nachhaltige Transformation an Hochschulen (senatra-projekt.de) und dem IN
 NO4BNE- Netzwerk der Deutschen Gesellschaft für Nachhaltigkeit an Hochschul
 en (DG HochN) (dg- hochn.de) ausgerichtet. Sie bildet zugleich die Abschlus
 stagung des Senatra-Projekts und eine wertvolle Gelegenheit für das INNO4BN
 E-Netzwerk und alle weiteren Interessierten, sich vor Ort auszutauschen und
  zu vernetzen. Das Projekt Senatra hat sich drei Jahre lang intensiv mit de
 r Rolle von Service Learning als Format der Bildung für nachhaltige Entwick
 lung (BNE) an Hochschulen befasst; das INNO4BNE-Netzwerk trifft sich einmal
  monatlich zum Austausch über Innovative Lehrformate für BNE an Hochschulen
 .\n\nDas Programm findet sich hier.\n\nWeitere Informationen:\n\nKatrin Hed
 emann\n\nEmail: katrin.hedemann@uni-vechta.de\n\nTel.: +49. (0) 4441.15 439
DTSTAMP:20250826T121159Z
DTSTART:20250901T110000Z
DTEND:20250903T110000Z
END:VEVENT
END:VCALENDAR
