BEGIN:VCALENDAR
VERSION:2.0
PRODID:https://github.com/derhansen/sf_event_mgt
METHOD:PUBLISH
BEGIN:VEVENT
UID:27952359-6510@www.uni-vechta.de
CLASS: PUBLIC
SUMMARY:Öffentliche Ringvorlesung an der Uni Vechta |Dienstags 4. November 
 bis 9. Dezember, 18:00 Uhr
DESCRIPTION:Wissen ermöglicht Wandel – Region und Universität in Zeiten gro
 ßer Umbrüche\n\nÖffentliche Ringvorlesung\n\n30 Jahre Selbstständigkeit, 20
  Jahre Fusion mit der Katholischen Fachhochschule Norddeutschland, 15 Jahre
  Universität Vechta – die Historie der Bildungseinrichtung im Oldenburger M
 ünsterland zählt zwar bei Weitem nicht zu den längsten der Bundesrepublik, 
 aber dennoch hat sie während ihres recht kurzen Bestehens schon bewegende Z
 eiten miterleben dürfen. Genauso, wie sich die Institution verändern musste
 , verändern sich auch die zu bearbeitenden wissenschaftlichen Themen. Im Zu
 ge der Jubiläen veranstaltet die Universität Vechta eine Ringvorlesung für 
 alle Interessierten unter dem Titel „Wissen ermöglicht Wandel – Region und 
 Universität in Zeiten großer Umbrüche“. \n\nVom 4. November bis zum 9. Deze
 mber präsentieren Wissenschaftlerinnen und Wissenschaftler der Universität 
 Vechta, Driverstraße 22, ihre Arbeit zu aktuellen Themen.\n\nDie Vorlesunge
 n starten jeweils um 18 Uhr. Eine Anmeldung ist nicht erforderlich. \n\nAus
  dem VISTRA sind die folgenenden Professor:innen dabei:\n\n11. November | 1
 8 Uhr Musiksaal (Raum F144a)\n\nWissen ermöglicht Wandel – Transformationen
  von Saalbetrieben im ländlichen Niedersachsen digital erforschen\n\nProf. 
 Dr. Lina Franken (Kulturwissenschaften)\n\nSeit mehr als einem Jahrhundert 
 prägen Gaststätten mit angeschlossenem Saalbetrieb die niedersächsische All
 tags- und Festkultur. Als öffentliche Orte sind häufig ganze Biographien mi
 t diesen Sälen verwoben: von der Wiege bis zur Bahre wird in ihnen zu den v
 erschiedensten Anlässen gemeinsam gefeiert. Insbesondere im ländlichen Raum
  unterliegen Saalbetriebe grundsätzlichen Transformationen und sind gleichz
 eitig ein wesentlicher Teil dieser Veränderungen, gerade durch ihre zentral
 e Stellung für die Entwicklung von Gemeinschaft und Festkultur im Ort. In e
 inem vom MWK geförderten Forschungsprojekt wird derzeit zusammengetragen, w
 elche Zeugnisse aus der Vergangenheit dieser Säle existieren, um sie digita
 l zu vernetzen und so die Bedeutung der Orte, Dinge und Aktivitäten herausz
 uarbeiten. Der Vortrag gibt Einblicke in die laufende Forschungsarbeit.\n\n
 ----------------------------------\n\n18. November 2025 | 18 Uhr Musiksaal 
 (Raum F144a)\n\nWissen ermöglicht Wandel – wie interdisziplinäre Forschung 
 die Transformation gestaltet\n\nProf. Dr. Karl Martin Born (Geografie/VISTR
 A)\n\n-------------------------------\n\n25. November | 18 Uhr Musiksaal (R
 aum F144a)\n\nWissen ermöglicht Wandel: Wie Unternehmen den Strukturwandel 
 durch strategische Innovation gestalten\n\nProf. Dr. Sascha Klein (Innovati
 on und Entrepreneurship)\n\nWie gelingt Wandel in Unternehmen – gerade in Z
 eiten multipler Krisen und tiefgreifender Umbrüche? Der Vortrag zeigt anhan
 d aktueller Erkenntnisse aus der Managementforschung, welche Stellschrauben
  besonders relevant sind, um Unternehmenstransformationen und neue, nachhal
 tige Geschäftsmodelle erfolgreich zu gestalten: Wahrnehmung von Veränderung
 en, das Verlernen alter Routinen, die Entwicklung neuer Geschäftsmodelle so
 wie Zusammenarbeit mit externen Akteuren. Dabei geht es nicht um technologi
 sche Innovation allein, sondern um die Fähigkeit von Organisationen, Wandel
  strategisch zu erkennen, umzusetzen und gemeinsam mit anderen zu gestalten
 . Anhand realer Praxisbeispiele wird aufgezeigt, wie Managementwissen zur T
 ransformation beitragen kann – und welche Rolle Wissenschaft in der Überset
 zung von Wissen in Handlung spielt.\n\nDas gesamte Programm findet sich hie
 r.
DTSTAMP:20251119T073154Z
DTSTART:20251125T170000Z
DTEND:20251125T190000Z
END:VEVENT
END:VCALENDAR
