BEGIN:VCALENDAR
VERSION:2.0
PRODID:https://github.com/derhansen/sf_event_mgt
METHOD:PUBLISH
BEGIN:VEVENT
UID:23885448-6510@www.uni-vechta.de
CLASS: PUBLIC
SUMMARY:Nachwuchstreffen des Hochschulverband für Geographiedidaktik in Vec
 hta
DESCRIPTION:Die nächste Tagung des HGD-Nachwuchses (Hochschulverband für Ge
 ographiedidaktik) findet vom 25.-27.02.2026 in Vechta statt. Die Tagungstei
 lnehmenden verbringen drei Tage im BDKJ-Jugendhof – inklusive Mahlzeiten, A
 bendveranstaltungen und bei Bedarf Übernachtung. Es erwarten Euch verschied
 ene Exkursionen, Workshops und die Möglichkeit, Eure Forschungsvorhaben zur
  Diskussion zu stellen oder an den Vorträgen anderer zu partizipieren. Auße
 rdem gibt es bei einem Rahmenprogramm mit Spiel und Sport viele Gelgenheite
 n zum informellen Kennenlernen und Netzwerken.\n\nDie Anmeldung zur Tagung 
 ist von Mitte Oktober bis Mitte November möglich.\n\nWeitere Informationen 
 zu Anmeldung und Programm folgen in Kürze.\n\nBei Fragen wendet Euch bitte 
 an Lena Neumann.
DTSTAMP:20250715T120318Z
DTSTART:20260225T080000Z
DTEND:20260227T140000Z
END:VEVENT
END:VCALENDAR
