BEGIN:VCALENDAR
VERSION:2.0
PRODID:https://github.com/derhansen/sf_event_mgt
METHOD:PUBLISH
BEGIN:VEVENT
UID:28555837-6510@www.uni-vechta.de
CLASS: PUBLIC
SUMMARY:Innovationsforum „Alternative Proteinquellen im ländlichen Raum“
DESCRIPTION:Ort: Big Dutchman Service GmbH, Auf der Lage 2, 49377 Vechta\n\
 nTeilnahme kostenfrei | Plätze begrenzt | Anmeldung erforderlich\n\n\n\nDas
  Niedersächsische Ministerium für Ernährung, Landwirtschaft und Verbraucher
 schutz, die Marketinggesellschaft der niedersächsischen Land- und Ernährung
 swirtschaft e. V. und der Verbund Transformationsforschung agrar Niedersach
 sen (trafo:agrar) laden herzlich ein zum:\n\nInnovationsforum „Alternative 
 Proteinquellen im ländlichen Raum“\n\nEine wachsende Weltbevölkerung, Änder
 ungen im Konsumverhalten, die Folgen des Klimawandels und zugleich neue tec
 hnologische Entwicklungen erzeugen ein spannendes Feld für Innovationen. In
 sbesondere im Bereich der Proteingewinnung erleben wir weltweit eine enorme
  Dynamik. Ob pflanzenbasierte Ansätze (Plant-based), Insekten als Proteinqu
 elle, Fermentationsverfahren, Zellkultivierung oder Algen, die Vielfalt und
  Weiterentwicklung von Technologien wächst rasant. Viele dieser Innovatione
 n eröffnen neue Perspektiven auch für landwirtschaftliche Betriebe und den 
 ländlichen Raum.\n\nMit dem Innovationsforum „Alternative Proteinquellen im
  ländlichen Raum“ möchten wir diese Entwicklungen sichtbar machen, ihre Fun
 ktionsweisen und Potenziale aufzeigen und gemeinsam diskutieren, wo Grenzen
  liegen und wo Chancen für die Praxis bestehen.\n\nSie erhalten einen kompa
 kten Überblick über aktuelle und künftige Verfahren zur Erzeugung und Gewin
 nung alternativer Proteine. Sie erfahren, welche Innovationen auch für Ihre
 n Betrieb relevant werden können. Gleichzeitig bietet die Veranstaltung die
  Gelegenheit, sich direkt mit Expertinnen und Experten aus Wissenschaft, La
 ndwirtschaft, Wirtschaft, Politik und innovativen Unternehmen auszutauschen
  und wertvolle Kontakte für die Zukunft zu knüpfen.\n\nNähere Informationen
  zum Ablauf und zur Teilnahme können Sie der beigefügten Einladung entnehme
 n, oder sich direkt hier anmelden.
DTSTAMP:20251106T134054Z
DTSTART:20251201T083000Z
DTEND:20251201T170000Z
END:VEVENT
END:VCALENDAR
