BEGIN:VCALENDAR
VERSION:2.0
PRODID:https://github.com/derhansen/sf_event_mgt
METHOD:PUBLISH
BEGIN:VEVENT
UID:34134541-8951@www.uni-vechta.de
CLASS: PUBLIC
SUMMARY:Internationale Tagung „Gerechtigkeitsdimensionen nachhaltigkeitsori
 entierter Transformationsprozesse in ländlichen Räumen“ an der Universität 
 Vechta, 8. - 9. Juli 2026
DESCRIPTION:[English version below]\n\nDie internationale Tagung des Promot
 ionskollegs PK 60 an der Universität Vechta widmet sich am 8. Juli 2026 den
  Gerechtigkeitsdimensionen nachhaltigkeitsorientierter Transformationsproze
 sse in ländlichen Räumen.\n\nAm 8. Juli findet eine öffentliche Auftaktvera
 nstaltung in deutscher Sprache statt.\n\nForschende, Akteur:inne aus der Re
 gion und Interesierte sind herzlich eingeladen..\n\nDie Teilnahme ist koste
 nlos und wird durch die Hans-Böckler-Stiftung gefördert.\n\nAnmeldung ab 15
 . April bis zum 15. Mai 2026 unter:\n\nhttps://www.uni-vechta.de/vistra/pro
 motionskolleg/anmeldung-fuer-veranstaltungen\n\n---------------------------
 -------------------------------------------------------------------\n\nStar
 t: 08.07.2026, 2pm\n\nEnd: 08.07.2026, 6pm\n\nThe international conference 
 of the doctoral college PK 60 at University of Vechta will on 9 July 2026 b
 e dedicated to the Justice Dimensions of Sustainability Transformations in 
 Rural Areas.\n\nOn 8 July, there will be a public launch event in German.\n
 \nResearchers, actors from the region and interested persons are invited.\n
 \nAttendance is free and is sponsored by the Hans-Böckler-Foundation.\n\nRe
 gistration from 15 April until 15 May 2026 on: https://www.uni-vechta.de/vi
 stra/promotionskolleg/anmeldung-fuer-veranstaltungen
DTSTAMP:20260413T134859Z
DTSTART:20260708T120000Z
DTEND:20260708T160000Z
END:VEVENT
END:VCALENDAR
