BEGIN:VCALENDAR
VERSION:2.0
PRODID:https://github.com/derhansen/sf_event_mgt
METHOD:PUBLISH
BEGIN:VEVENT
UID:22772396-6510@www.uni-vechta.de
CLASS: PUBLIC
SUMMARY:Antrittsvorlesung Prof. Dr. Sascha Klein | Innovation denken, Trans
 formation gestalten – Perspektiven für eine Forschungsagenda im ländlichen 
 Raum
DESCRIPTION:Wie lassen sich unternehmerisches Denken, nachhaltige Geschäfts
 modelle und strategische Innovationsprozesse auf die Herausforderungen und 
 Potenziale ländlicher Räume übertragen? \n\nIn seiner Antrittsvorlesung ste
 llt VISTRA-Wissenschaftler Prof. Dr. Sascha Klein, Inhaber der Professur fü
 r Innovation und Entrepreneurship in ländlichen Räumen - gestiftet durch di
 e Oldenburgische Industrie- und Handelskammer - seine Forschung zu kognitiv
 en Entscheidungsprozessen, nachhaltigen Innovationen und Geschäftsmodelltra
 nsformationen vor. Dabei zeigt er auf, wie daraus eine Forschungsagenda ent
 steht, die u.a. auch die Chancen und Herausforderungen ländlicher Räume adr
 essiert.\n\nDie Antrittsvorlesung findet statt am Mittwoch, 16. Juli 2025, 
 ab 17 Uhr im Musiksaal der Universität Vechta (Raum F144a).\n\nUm Anmeldung
  wird bis zum 30. Juni 2025 an petra.tecker@uni-vechta.de gebeten.
DTSTAMP:20250613T130748Z
DTSTART:20250716T150000Z
DTEND:20250716T180000Z
END:VEVENT
END:VCALENDAR
