BEGIN:VCALENDAR
VERSION:2.0
PRODID:https://github.com/derhansen/sf_event_mgt
METHOD:PUBLISH
BEGIN:VEVENT
UID:28863536-6510@www.uni-vechta.de
CLASS: PUBLIC
SUMMARY:Aktionswoche "Bildung für nachhaltige Entwicklung (BNE)"
DESCRIPTION:Vom 17. bis zum 21. November findet an unserer Universität wied
 er die Aktionswoche "Bildung für nachhaltige Entwicklung (BNE)" statt! Zahl
 reiche Lehrveranstaltungen laden Interessierte ein, zu erleben, wie vielfäl
 tig BNE in der Lehre aufgegriffen werden kann. \n\nAKTIONSWOCHE SPEZIAL: Am
  Dienstag gibt es einen Aktionsstand im Mensa-Gebäude und am Mittwoch folgt
  der "Open Gaming Lunch" zwischen 12 und 14 Uhr in der Cafete. Das Spiel Kl
 imakompass lädt dazu ein, den eigenen Alltag einmal spielerisch unter die L
 upe zu nehmen mit Blick darauf, wie unser Konsum das Klima beeinflusst. Für
  alle Mitspielenden gibt es eine frisch gebackene Waffel gratis!\n\nAlle In
 fos zur Aktionswoche sind in der Programmübersicht zu finden.
DTSTAMP:20251113T134646Z
DTSTART:20251117T070000Z
DTEND:20251121T090000Z
END:VEVENT
END:VCALENDAR
