BEGIN:VCALENDAR
VERSION:2.0
PRODID:https://github.com/derhansen/sf_event_mgt
METHOD:PUBLISH
BEGIN:VEVENT
UID:23501672-6510@www.uni-vechta.de
CLASS: PUBLIC
SUMMARY:7. One Health Tagung| One Health und Ernährung im Wandel – Wechselw
 irkungen und neue Herausforderungen für die Gesundheit von Mensch, Tier und
  Umwelt
DESCRIPTION:Ernährung, Umwelt und Gesundheit sind eng miteinander verknüpft
  – und stehen angesichts globaler Veränderungen vor neuen Herausforderungen
 . Unter dem Dach des One Health-Ansatzes möchten wir diese Wechselwirkungen
  aus medizinischer, veterinärmedizinischer und ökologischer Perspektive bel
 euchten und gemeinsam diskutieren.\n\nDas Niedersächsische Landesamt für Ve
 rbraucherschutz und Lebensmittelsicherheit (LAVES), das Niedersächsische La
 ndesgesundheitsamt (NLGA), die Stiftung Tierärztliche Hochschule Hannover (
 TiHo Hannover) und der Verbund Transformationsforschung agrar Niedersachsen
  (trafo:agrar) laden herzlich zur siebten One Health Tagung ein:\n\n📅 Datum
 : 17. März 2026 🕘 Uhrzeit: 09:00 – 17:00 Uhr 📍 Ort: Pathologie-Hörsaal, Sti
 ftung Tierärztliche Hochschule Hannover 💻 Hybridveranstaltung: Teilnahme vo
 r Ort oder online möglich 💡 Fortbildungspunkte: Anerkannte Fortbildung für 
 Human- und Veterinärmedizin 💰 Kosten: Teilnahme kostenfrei – gefördert durc
 h One Health Platform\n\nProgramm-Highlights:\n\n 	Keynote von Dr. Lynnette
  Neufeld (FAO) zu Sustainable Healthy Diets 	Vier Fachsessions: 	 		Transfo
 rmation der Ernährungssysteme im One-Health-Kontext 		Produktionsumwelten &
  neue Expositionen 		Kreislaufwirtschaft zwischen Risiko und Wertschöpfung 
 		Surveillance & Ausbruchsgeschehen entlang der Ernährungskette 	 	 	Interd
 isziplinärer Austausch von Wissenschaft, Praxis, Wirtschaft, Verwaltung, Be
 ratung und Politik \n\nDas gesamte Programm finden Sie hier.\n\n👉 Jetzt anm
 elden: https://www.trafo-agrar.de/onehealth\n\nAlternativ können Sie sich b
 equem über den QR-Code im oberen Bild registrieren.\n\n 
DTSTAMP:20251216T124044Z
DTSTART:20260317T080000Z
DTEND:20260317T160000Z
END:VEVENT
END:VCALENDAR
