BEGIN:VCALENDAR
VERSION:2.0
PRODID:https://github.com/derhansen/sf_event_mgt
METHOD:PUBLISH
BEGIN:VEVENT
UID:25025831-6510@www.uni-vechta.de
CLASS: PUBLIC
SUMMARY:4th European Rural Geographies Conference | University of Porto
DESCRIPTION:The 4th European Rural Geographies Conference will take place i
 n the vibrant city of Porto, Portugal, from 22 to 26 June 2026. This presti
 gious event will bring together scholars, researchers, and practitioners fr
 om across the world to discuss the latest advancements and challenges in ru
 ral geography.\n\nFurther details regarding registration and abstract submi
 ssions will be made available soon.  Should you have any questions, please 
 do not hesitate to contact: 4-ruralgeographies@euroissues.pt
DTSTAMP:20250813T131409Z
DTSTART:20260622T070000Z
DTEND:20260626T120000Z
END:VEVENT
END:VCALENDAR
