BEGIN:VCALENDAR
VERSION:2.0
PRODID:https://github.com/derhansen/sf_event_mgt
METHOD:PUBLISH
BEGIN:VEVENT
UID:20021785-6510@www.uni-vechta.de
CLASS: PUBLIC
SUMMARY:4. Netzwerktreffen Nachhaltigkeit und Transformation im Oldenburger
  Münsterland an der Universität Vechta
DESCRIPTION:Am Dienstag, den 2. September 2025 findet um 17.00 Uhr (Einlass
  ab 16.30 Uhr)\n\nin der Aula der Universität Vechta das\n\n4. Netzwerktref
 fen:  Nachhaltigkeit und Transformation im Oldenburger Münsterland statt.\n
 \nDie Veranstaltung beschäftigt sich in diesem Jahr mit der Frage „Die Welt
  im Wandel – (wie) halten wir mit?“.\n\nImpulse zum Thema liefern Florian P
 achaly, Gründer und Ex-Gesellschafter von @RECUP/REBOWL sowie das Präsidium
  der Universität Vechta. Abgerundet wird die Veranstaltung mit einer spanne
 nden Podiumsdiskussion zum Thema mit Unternehmens- und Institutionsvertrete
 r:innen aus der Region, u.a. aus dem VISTRA, Prof. Dr. Marco Rieckmann, sow
 ie aus dem Beirat des VISTRA, die Unternehmerin Melanie Philip (Pflegepioni
 ere | care pioneers GmbH).\n\nAlle weiteren Details und Anmeldeinformatione
 n entnehmen Sie bitte angehängter Einladungskarte.\n\nWir freuen uns auf ei
 nen interessanten Abend und bitten um Anmeldung bis zum 23. August 2025 unt
 er folgendem Anmeldelink:  https://www.oldenburger-muensterland.de/event/ne
 tzwerktreffen25.php
DTSTAMP:20250701T130830Z
DTSTART:20250902T150000Z
DTEND:20250902T183000Z
END:VEVENT
END:VCALENDAR
