BEGIN:VCALENDAR
VERSION:2.0
PRODID:https://github.com/derhansen/sf_event_mgt
METHOD:PUBLISH
BEGIN:VEVENT
UID:34903206-3454@www.uni-vechta.de
CLASS: PUBLIC
SUMMARY:Moonlight Studying: Prüfungsphase ohne Dauerstress - so bereitest d
 u dich effektiv vor
DESCRIPTION:Die Prüfungen kommen und der Stress steigt? Lerne, wie du dich 
 strukturiert vorbereitest, realistischer Lernstrategien entwickelst und mit
  mehr Ruhe und Klarheit durch die Prüfungsphase gehst.\n\nMittwochsabend ve
 ranstalten wir (das Studentische Gesundheitsmanagement, die ZSB und die Sch
 reibberatung des Sprachenzentrums) unser Moonlight Studying. Jeweils von 18
 :00 - 19:00 Uhr gibt es Online - Kurzworkshops und Inputs zu spezifischen T
 hemen.\n\nEine Anmeldung ist erforderlich. Sie melden sich an, indem Sie si
 ch in die Veranstaltung "Moonlight Studying" eintragen. Sie finden die Vera
 nstaltung bei Stud.IP im Studienbereich "sonstiges" oder über die Suchfunkt
 ion.\n\nAuch eine Anmeldung per Email ist möglich bei johanna-lea.schoon@un
 i-vechta.de.
DTSTAMP:20260325T131425Z
DTSTART:20260617T160000Z
DTEND:20260617T170000Z
END:VEVENT
END:VCALENDAR
