BEGIN:VCALENDAR
VERSION:2.0
PRODID:https://github.com/derhansen/sf_event_mgt
METHOD:PUBLISH
BEGIN:VEVENT
UID:34903207-3454@www.uni-vechta.de
CLASS: PUBLIC
SUMMARY:Moonlight Studying: Portfolio, Hausarbeit & Co.: Schreibprojekte er
 folgreich meistern
DESCRIPTION:Du weißt nicht, wie du mit deinem Portfolio oder deiner Hausarb
 eit anfangen sollst oder wie du den Überblick behältst? Hier bekommst du ko
 nkrete Ansätze, um Schreibprozesse zu strukturieren und deine Abgaben Schri
 tt für Schritt umzusetzen.\n\nMittwochsabend veranstalten wir (das Studenti
 sche Gesundheitsmanagement, die ZSB und die Schreibberatung des Sprachenzen
 trums) unser Moonlight Studying. Jeweils von 18:00 - 19:00 Uhr gibt es Onli
 ne - Kurzworkshops und Inputs zu spezifischen Themen.\n\nEine Anmeldung ist
  erforderlich. Sie melden sich an, indem Sie sich in die Veranstaltung "Moo
 nlight Studying" eintragen. Sie finden die Veranstaltung bei Stud.IP im Stu
 dienbereich "sonstiges" oder über die Suchfunktion.\n\nAuch eine Anmeldung 
 per Email ist möglich bei johanna-lea.schoon@uni-vechta.de.
DTSTAMP:20260325T131435Z
DTSTART:20260812T160000Z
DTEND:20260812T170000Z
END:VEVENT
END:VCALENDAR
