BEGIN:VCALENDAR
VERSION:2.0
PRODID:https://github.com/derhansen/sf_event_mgt
METHOD:PUBLISH
BEGIN:VEVENT
UID:4617198-3454@www.uni-vechta.de
CLASS: PUBLIC
SUMMARY:Hochschulinformationstag 2026
DESCRIPTION:Wir bieten in diesem Jahr ein umfangreiches Informations- und B
 eratungsprogramm für alle, die an einem Studium in Vechta interessiert sind
 .\n\nDas Rahmenprogramm umfasst übergreifende Informationsveranstaltungen (
 So geht studieren, Lehramt) und Campus-Touren durchgeführt von Studierende.
  Selbstverständlich gibt es auch die Möglichkeit zur persönlichen Beratung.
 \n\nDarüber hinaus bieten wir Interessierten die Möglichkeit, in individuel
 le Studiengänge und Fächer reinzuschnuppern.\n\n08:30 Uhr: Begrüßungsverans
 taltung und -café 09:00 Uhr: Infoveranstaltung - So geht studieren (Die Bas
 ics) 09:30 Uhr: Infoveranstaltung Lehramt 10:00 Uhr: Infoveranstaltung Stud
 ium ohne Abitur 10:00 - 13:30 Uhr: Vorstellung der Studiengänge & Campusfüh
 rungen 13:30 Uhr: Infoveranstaltung Lehramt 14:00 Uhr: Austauschrunde mit S
 tudierenden 15:00 Uhr: Infoveranstaltung Studieren mit Berufserfahrung\n\nU
 nter www.uni-vechta.de/hit finden Sie den Ablauf und weitere Informationen.
 \n\nWir freuen uns Sie am Di., den 16.06. von 08:30-16 Uhr auf dem Campus b
 egrüßen zu dürfen.\n\n\n\n
DTSTAMP:20260331T152722Z
DTSTART:20260616T063000Z
DTEND:20260616T140000Z
END:VEVENT
END:VCALENDAR
