BEGIN:VCALENDAR
VERSION:2.0
PRODID:https://github.com/derhansen/sf_event_mgt
METHOD:PUBLISH
BEGIN:VEVENT
UID:32171175-5783@www.uni-vechta.de
CLASS: PUBLIC
SUMMARY:STADTRADELN-Tour "Moore im Wandel"
DESCRIPTION:Wir radeln gemeinsam vom Rathaus Cloppenburg zur Molberger Dose
 . Auf dem Rundgang (zu Fuß) über den Moorlehrpfad, erzählen uns Forschende 
 der Universität Vechta aus ihren Projekten zum Thema Moore. Trockengelegte 
 Moore wieder in einen nassen Zustand zu versetzten, leistet einen wichtigen
  Beitrag zum Umwelt- und Klimaschutz. Doch wie können diese nassen Flächen 
 trotzdem noch genutzt werden, um landwirtschaftlichen Betrieben den Umstieg
  attraktiv zu machen? Einige Ansätze werden auf dieser Tour vorgestellt. Mi
 t dabei sind Fiona Hasenbach aus dem Projekt MOOSland und Alvaro Andrés Ira
 zoque Soria Galvarro aus dem Projekt BUFFER+.\n\nTermin: Montag, 4. Mai 202
 6, 16:00 Uhr bis ca. 19:00 Uhr Start und Ende: Rathaus Cloppenburg, Eingang
  Altes Rathaus, Sevelter Str. 8 Ziel: Molberger Dose Länge der Tour: ca. 25
  km Anmeldung: Bitte melden Sie sich über die Stadt Cloppenburg an. \n\nZum
  gesamten STADTRADELN-Programm der Stadt Cloppenburg
DTSTAMP:20260414T074539Z
DTSTART:20260504T140000Z
DTEND:20260504T170000Z
END:VEVENT
END:VCALENDAR
