BEGIN:VCALENDAR
VERSION:2.0
PRODID:https://github.com/derhansen/sf_event_mgt
METHOD:PUBLISH
BEGIN:VEVENT
UID:36035193-5783@www.uni-vechta.de
CLASS: PUBLIC
SUMMARY:Science Day "Faszination Biologie" im Mehrgenerationenhaus Cloppenb
 urg
DESCRIPTION:Von Menschen, Bienen und Tiefseewürmern\n\nAm 19.06.2026 findet
  im Mehrgenerationenhaus Cloppenburg der Science Day Faszination Biologie s
 tatt. Unsere Gäste erwartet ein spannender Einblick in die (Um-)Welt der Ti
 ere und Pflanzen und die menschlichen Sinne mit vielen Experimenten und Mög
 lichkeiten zum Mitmachen. Wer die Welt der Bienen und das Leben im Watt ken
 nenlernen oder mal durch ein Mikroskop schauen möchte, ist beim Science Day
  genau richtig.\n\nVon 09:00 bis 13:00 Uhr ist, nach vorheriger Anmeldung, 
 der Science Day für Vorschulkinder und Schulklassen (bis 6. Klasse) geöffne
 t. Interessierte Erzieher*innen und Lehrer*innen melden sich bitte zur indi
 viduellen Absprache beim Mehrgenerationenhaus.\n\nVon 14:00 bis 18:00 Uhr s
 ind die Türen für alle Interessierten geöffnet. Jede*r kann ohne Anmeldung 
 vorbeikommen und unsere Aussteller kennenlernen.\n\nVon 19:00 bis 20:30 Uhr
  findet ein Vortragsprogramm für die ganze Familie statt.\n\nMehr über die 
 einzelnen Mitmach-Stationen und Vorträge erfahren Sie auf der Veranstaltung
 sseite.
DTSTAMP:20260417T161534Z
DTSTART:20260619T070000Z
DTEND:20260619T183000Z
END:VEVENT
END:VCALENDAR
