BEGIN:VCALENDAR
VERSION:2.0
PRODID:https://github.com/derhansen/sf_event_mgt
METHOD:PUBLISH
BEGIN:VEVENT
UID:902839-3425@www.uni-vechta.de
CLASS: PUBLIC
SUMMARY:Trauma und Traumafolgen - Wissen und Handlungsmöglichkeiten
DESCRIPTION:Viele Menschen haben in ihrer Vergangenheit traumatische und be
 lastende Erfahrungen gemacht, nicht nur die Kinder und Erwachsenen, die akt
 uell zu uns kommen. In Folge dieser Ereignisse können sie Reaktionen zeigen
 , die für uns ungewohnt sind und die uns oftmals hilflos machen. Um sie ang
 emessen unterstützen zu können und sich selbst hilfreich zu erleben, sind S
 ensibilität, Empathie aber auch Wissen notwendig.\n\n In diesem Input werde
 n folgende Inhalte vermittelt:\n\n 	Notwendige Grundlagen der Psychotraumat
 ologie: Definitionen, Ursachen und Folgen von Traumatisierungen, Re-Traumat
 isierung 	Trauma im Kontext von Flucht und Vertreibung /sequentielle Trauma
 tisierung 	Einfache Handlungs- und Stabilisierungsmöglichkeiten \n\n Refere
 ntin: Martina Kruse\n\nDatum & Zeit: 25.04.2022 von 16:00 bis 17:30 Uhr\n\n
 Zielgruppe: Lehrkräfte, Studierende der Universität Vechta, Teilnehmer*inne
 n im Anpassungslehrgang/Back-to-School-Program sowie Kooperationspartner im
  Sprachnetz\n\nDie Anmeldung zu diesem Workshop erfolgt für Lehrkräfte über
  die VeDaB (Link zur Anmeldung),Studierende der Universität Vechta, Teilneh
 mer*innen im Anpassungslehrgang/Back-to-School-Program sowie Kooperationspa
 rtner im Sprachnetz können sich über eine E-Mail an info.zflb@uni-vechta.de
  anmelden. Anmeldeschluss ist der 22.04.2022. Den Link zum BigBlueButton-Ra
 um erhalten Sie im Vorfeld der Veranstaltung an Ihre E-Mail-Adresse.\n\nDie
 s ist ein Angebot des Kompetenzzentrums für Regionale Lehrkräftefortbildung
  in Kooperation mit dem Projekt Sprachnetz – Unterstützung von Lernprozesse
 n von Schüler*innen mit Flucht- und Migrationserfahrung des Zentrums für Le
 hrer*innenbildung der Universität Vechta. Weitere Informationen zu den aktu
 ellen Angeboten aus dem Projekt: Sprachnetz - ankommen in Vechta und umzu.
DTSTAMP:20240521T122657Z
DTSTART:20220425T140000Z
DTEND:20220425T153000Z
END:VEVENT
END:VCALENDAR
