BEGIN:VCALENDAR
VERSION:2.0
PRODID:https://github.com/derhansen/sf_event_mgt
METHOD:PUBLISH
BEGIN:VEVENT
UID:1021-4420@www.uni-vechta.de
CLASS: PUBLIC
SUMMARY:Studium, und dann?? – Berufsorientierung für Erstis
DESCRIPTION:Sie haben gerade mit Ihrem Studium begonnen? Sie sind sich nich
 t sicher, wo es beruflich nach Ihrem Studienabschluss hingehen soll? Sie si
 nd sich unsicher, wo Ihre Stärken liegen?  Hier erhalten Sie die Möglichkei
 t der Selbsterkundung: Sie finden heraus, wo Ihre Stärken liegen und über w
 elche Fähigkeiten, Neigungen und Talente Sie verfügen. Im Zusammenspiel von
  Selbst- und Fremdeinschätzung werden an diesem Tag Interessen, Fähigkeiten
  und Ziele entdeckt und entwickelt. Der Workshop gibt Ihnen Zeit, Raum und 
 Methoden, sich mit sich selbst in Bezug auf Ihre berufliche Perspektive zu 
 befassen. Potentielle Berufspläne werden diskutiert und mögliche Schritte i
 n Richtung Zukunft geplant. Was wir hier nicht anbieten, ist eine individue
 lle Berufsberatung: Sie entwickeln selber mögliche Berufswege. Auch eine au
 sführliche Darstellung einzelner Berufe kann im Rahmen dieses Workshops nic
 ht erfolgen.\n\nEine Anmeldung über Stud.IP ist erforderlich unter: Studium
 , und dann?? – Berufsorientierung für Erstis
DTSTAMP:20240521T122657Z
DTSTART:20220429T080000Z
DTEND:20220429T130000Z
END:VEVENT
END:VCALENDAR
