BEGIN:VCALENDAR
VERSION:2.0
PRODID:https://github.com/derhansen/sf_event_mgt
METHOD:PUBLISH
BEGIN:VEVENT
UID:543200-3425@www.uni-vechta.de
CLASS: PUBLIC
SUMMARY:Online-Workshop „Einführung in das Niedersächsische Schulgesetz - B
 erufsrecht für angehende Lehrer*innen“
DESCRIPTION:Liebe Studierende,\n\nwir möchten Sie gerne auf folgenden Onlin
 e-Workshop am Zentrum für Lehrer*innenbildung im Sommersemester 2022 aufmer
 ksam machen:\n\nEinführung in das Niedersächsische Schulgesetz - Berufsrech
 t für angehende Lehrer*innen. Der Workshop besteht aus drei Bausteinen:\n\n
  	Grundlagen zum Berufsrecht (Mittwoch, den 27.04.2022) 	Leistungsbewertung
  in der Schule (Mittwoch, den 18.05.2022) 	Aufsicht und Haftung in der Schu
 le (Mittwoch, den 22.06.2022). \n\nWorkshopzeiten: jeweils von 14.00 bis 16
 .30 Uhr\n\nReferent: André Kolley (Schulfachlicher Dezernent am Regionalen 
 Landesamt für Schule und Bildung Hannover)\n\nInhalt\n\nIm Workshop wird an
 hand von Beispielfällen in die berufsrechtlichen Grundlagen von Lehrer*inne
 n an Schulen eingeführt. Folgende Themenbereiche werden in den drei Modulba
 usteinen theoretisch und anhand von Praxisbeispielen vertieft und diskutier
 t: das allgemeine Berufsrecht, die schulischen Gremien, die Leistungsbewert
 ung, Inhalt und Grenzen der Aufsichtspflicht und Haftung in der Schule.\n\n
 Zur Anmeldung\n\nDie Veranstaltung, die im digitalen Raum stattfindet, rich
 tet sich an alle interessierten Studierenden im Master of Education sowie a
 lle Studierende mit Lehramtsoption im Bachelor Combined Studies. Der Online
 -Workshop ist in der Teilnehmendenzahl auf maximal 25 Studierende beschränk
 t. Wir bitten um verbindliche Anmeldung für alle drei Bausteine bis zum 20.
 03.2022 per E-Mail an info.zflb@uni-vechta.de. Falls Sie weitere Informatio
 nen zu den Workshopinhalten und zur zeitlichen Organisation benötigen, zöge
 rn Sie bitte nicht, uns zu kontaktieren (kathrin.rheinlaender@uni-vechta.de
 ).
DTSTAMP:20240521T122657Z
DTSTART:20220427T120000Z
DTEND:20220622T143000Z
END:VEVENT
END:VCALENDAR
