BEGIN:VCALENDAR
VERSION:2.0
PRODID:https://github.com/derhansen/sf_event_mgt
METHOD:PUBLISH
BEGIN:VEVENT
UID:836929-3454@www.uni-vechta.de
CLASS: PUBLIC
SUMMARY:Moonlight Studying: Tipps für Referate
DESCRIPTION:Am Mittwoch, den 17.05.23 um 19:00 Uhr findet die zweite Verans
 taltung der Reihe „Moonlight Studying“ als gemeinsame Veranstaltungsreihe d
 es Schreibzentrums und der ZSB-Lernwerkstatt statt.\n\nTitel der Veranstalt
 ung: „Tipps für Referate“\n\nWeitere Veranstaltungen des Moonlight Studying
  finden jeweils um 19:00 Uhr an den folgenden Terminen statt:\n\n14.06.23  
         Aufschieben ade\n\n19.07.23          Tipps für Hausarbeiten\n\nEine
  Anmeldung ist erforderlich: Tragen Sie sich dazu einfach in die Veranstalt
 ung "Moonlight Studying + Titel der Veranstaltung" ein. Sie finden die Vera
 nstaltung in Stud.IP im Studienbereich "sonstiges oder über die Suchfunktio
 n oder über die Suchfunktion.\n\nWeitere Infos finden Sie auf den Seiten de
 r ZSB Lernwerkstatt:
DTSTAMP:20240521T122657Z
DTSTART:20230517T170000Z
DTEND:20230517T180000Z
END:VEVENT
END:VCALENDAR
