BEGIN:VCALENDAR
VERSION:2.0
PRODID:https://github.com/derhansen/sf_event_mgt
METHOD:PUBLISH
BEGIN:VEVENT
UID:34941119-3266@www.uni-vechta.de
CLASS: PUBLIC
SUMMARY:Meet & Eat - Internationaler Treffpunkt in der Mensa
DESCRIPTION:Jeden Montag und Freitag von 12:00-13:30 Uhr.\n\nInternationale
 r Treffpunkt in der Mensa: Lernen Sie neue Menschen kennen und genießen Sie
  Ihr Mittag in guter Gesellschaft!\n\nMadina und ihr Team begrüßen Sie am T
 isch mit dem Schild "Meet & Eat" - keine Anmeldung erforderlich. Kommen Sie
  einfach dazu!\n\n\n\nEin Angebot des FIT-Projekts des International Office
 , gefördert durch den DAAD aus Mitteln des Bundesministeriums für Forschung
 , Technologie und Raumfahrt (BMFTR).
DTSTAMP:20260422T095821Z
DTSTART:20260504T100000Z
DTEND:20260504T110000Z
END:VEVENT
END:VCALENDAR
