BEGIN:VCALENDAR
VERSION:2.0
PRODID:https://github.com/derhansen/sf_event_mgt
METHOD:PUBLISH
BEGIN:VEVENT
UID:902840-3425@www.uni-vechta.de
CLASS: PUBLIC
SUMMARY:Kultur- und sprachsensibel kommunizieren
DESCRIPTION:In Ihrem schulischen Alltag haben Sie es mit Schüler*innen sowi
 e Eltern aus unterschiedlichsten kulturellen Kontexten zu tun. In der Kommu
 nikation mit Eltern kann es hier schnell einmal zu Missverständnissen oder 
 Störungen kommen, deren Ursachen nicht immer gleich erkennbar sind. Diese O
 nline-Veranstaltung nimmt unterschiedliche Kommunikationsmuster näher in de
 n Blick, aber auch die sprachlichen Herausforderungen, vor die Eltern, dere
 n Erstsprache nicht Deutsch ist, häufig gestellt sind und zeigt Wege zu ein
 er kultur- und sprachsensiblen Kommunikation auf.\n\nReferentin: Natascha B
 orota\n\nDatum & Zeit: 28.04.2022 von 16:00 bis 17:30 Uhr\n\nZielgruppe: Le
 hrkräfte, Studierende der Universität Vechta, Teilnehmer*innen im Anpassung
 slehrgang/Back-to-School-Program sowie Kooperationspartner im Sprachnetz\n\
 nDie Anmeldung zu diesem Workshop erfolgt für Lehrkräfte über die VeDaB (Li
 nk zur Anmeldung), Studierende der Universität Vechta, Teilnehmer*innen im 
 Anpassungslehrgang/Back-to-School-Program sowie Kooperationspartner im Spra
 chnetz können sich über eine E-Mail an info.zflb@uni-vechta.de anmelden. An
 meldeschluss ist der 25.04.2022. Den Link zum BigBlueButton-Raum erhalten S
 ie im Vorfeld der Veranstaltung an Ihre E-Mail-Adresse.\n\nDies ist ein Ang
 ebot des Kompetenzzentrums für Regionale Lehrkräftefortbildung in Kooperati
 on mit dem Projekt Sprachnetz – Unterstützung von Lernprozessen von Schüler
 *innen mit Flucht- und Migrationserfahrung des Zentrums für Lehrer*innenbil
 dung der Universität Vechta. Weitere Informationen zu den aktuellen Angebot
 en aus dem Projekt: Sprachnetz - ankommen in Vechta und umzu.
DTSTAMP:20240521T122657Z
DTSTART:20220428T140000Z
DTEND:20220428T153000Z
END:VEVENT
END:VCALENDAR
