BEGIN:VCALENDAR
VERSION:2.0
PRODID:https://github.com/derhansen/sf_event_mgt
METHOD:PUBLISH
BEGIN:VEVENT
UID:535683-3786@www.uni-vechta.de
CLASS: PUBLIC
SUMMARY:Internationale Woche 2022
DESCRIPTION:Zur Internationalen Woche (13. bis 17. Juni 2022) erwarten wir 
 Gäste aus vielen Ländern. Sie findet im Hybridformat (online und in Präsenz
 ) statt.  Die internationalen Gäste werden die Lehrveranstaltungen mit ihre
 n internationalen Perspektiven auf Forschung und Lehre bereichern. Ein viel
 fältiges Rahmenprogramm mit interkulturellen Trainings, sowie interessante 
 Sonderveranstaltungen runden die Internationale Woche ab.\n\nFür mehr Infor
 mationen: https://www.uni-vechta.de/internationalweek
DTSTAMP:20240521T122657Z
DTSTART:20220612T220000Z
DTEND:20220617T215900Z
END:VEVENT
END:VCALENDAR
