BEGIN:VCALENDAR
VERSION:2.0
PRODID:https://github.com/derhansen/sf_event_mgt
METHOD:PUBLISH
BEGIN:VEVENT
UID:835917-3425@www.uni-vechta.de
CLASS: PUBLIC
SUMMARY:InfoTalk: Stipendienprogramm Lehramt.International - Schulpraktika 
 im Ausland
DESCRIPTION:Der Deutsche Akademische Austauschdienst (DAAD) bietet mit Lehr
 amt.International zwei Stipendienprogramme, die Lehramtsstudierende, aber a
 uch Absolventinnen und Absolventen von Lehramtsstudiengängen unterstützen, 
 Schule und Unterricht in einem anderen Land zu erfahren\n\nLehramtsstudiere
 nde erhalten im Programm „Auslandspraktika für Lehramtsstudierende“ Stipend
 ien für 1- (mindestens 30 Tage) bis 6-monatige Praktika an schulischen Einr
 ichtungen im Ausland. Das Programm „Auslandspraktika für Absolvent*innen“ f
 ördert Praktika zwischen drei und zwölf Monate.\n\nIn einer Infoveranstaltu
 ng informiert das ZfLB über die Bewerbungsvoraussetzungen und über das Bewe
 rbungsverfahren. Im Anschluss daran können Sie Ihre Fragen stellen. Ganz gl
 eich, ob Sie bereits konkrete Pläne haben oder sich "nur" informieren wolle
 n - schauen Sie vorbei!\n\nDatum & Uhrzeit: 10.05.2022 18 Uhr bis ca. 19 Uh
 r\n\nOrt: StudIP-Studiengruppe ‚Praktikumsstellen im Ausland für angehende 
 Lehrer*innen‘ -> Meetings - Eine Anmeldung ist nicht erforderlich.
DTSTAMP:20240521T122657Z
DTSTART:20220510T160000Z
DTEND:20220510T170000Z
END:VEVENT
END:VCALENDAR
