BEGIN:VCALENDAR
VERSION:2.0
PRODID:https://github.com/derhansen/sf_event_mgt
METHOD:PUBLISH
BEGIN:VEVENT
UID:1040-3454@www.uni-vechta.de
CLASS: PUBLIC
SUMMARY:Gesundheitswoche 2022 - 17.-21. Januar 2022
DESCRIPTION:Gesundheitswoche der ZSB-Lernwerkstatt mit Veranstaltungen rund
  um das Thema Gesundheit und Studieren.\n\nBisher geplante Veranstaltungen:
  Sehstress vermeiden, Entspannung (Qigong und Taijiquan, Achtsamkeit), Akti
 ve Mittagspause, gesunde Ernährung und vieles mehr...\n\nAnmeldung: Um an d
 en Veranstaltungen der Gesundheitswoche teilzunehmen, müssen Sie sich in di
 e Studiengruppe "Gesundheitswoche 2022" bei Stud.IP eintragen.\n\nDas ausfü
 hrlichere Programm mit Erläuterungen und Referent*innen finden Sie hier.\n\
 nWeitere Infos finden Sie auf den Seiten der ZSB-Lernwerkstatt und in der S
 tudiengruppe "Gesundheitswoche 2022"
DTSTAMP:20240521T122657Z
DTSTART:20220117T090000Z
DTEND:20220121T130000Z
END:VEVENT
END:VCALENDAR
