BEGIN:VCALENDAR
VERSION:2.0
PRODID:https://github.com/derhansen/sf_event_mgt
METHOD:PUBLISH
BEGIN:VEVENT
UID:790128-3425@www.uni-vechta.de
CLASS: PUBLIC
SUMMARY:Bildung für nachhaltige Entwicklung - Universität meets Schulpraxis
DESCRIPTION:BNE ist einerseits ein wichtiges, sich in 17 Nachhaltigkeitszie
 len konkretisierendes Thema und andererseits gibt es seit 2021 an den niede
 rsächsischen Schulen Ansprechpartner*innen für BNE. Aus einem Angebot für S
 tudierende hat das Kompetenzzentrum für regionale Lehrkräftefortbildung unt
 er dem Titel Bildung für nachhaltige Entwicklung – Universität meets Schulp
 raxis nun eine kleine Fortbildungsreihe entwickelt.\n\nZiel dieser Reihe is
 t neben schulrelevanten Inhalten zu BNE auch das Zusammenbringen von Studie
 renden und Lehrkräften im Beruf, also angehenden und erfahrenen Lehrkräften
 . Wir versprechen uns von diesem Kooperationsmodell gleich mehrere Vorteile
 : Zum einen die Stärkung des Theorie-Praxis-Dialogs, indem angehende Lehrer
 *innen die Sicht der Schulpraxis kennenlernen, zum anderen die Stärkung des
  Kooperationsgedankens zwischen den Phasen, die derzeit noch sehr isoliert 
 nebeneinanderstehen. Die Lehrkräftefortbildung, seit 2012 fester Bestandtei
 l an den lehrer*innenbildenden Hochschulen, nutzt diesen Austausch noch zu 
 wenig.\n\nUm dieses Angebot für beide Phasen attraktiv zu gestalten, haben 
 wir uns für Themenvielfalt und Kürze entschieden. Die Angebote kommen dabei
  sowohl aus den Fächern (Geographie, Biologie) als auch aus den Bildungswis
 senschaften und sind in einem 90-minütigen Onlineformat arrangiert. Die Wor
 kshops können einzeln belegt werden.\n\nAnmeldung\n\nLehrkräfte melden sich
  wie gewohnt über die VeDaB. (Anmeldelinks s.u.)\n\nStudierende melden sich
  per Mail an info.zflb@uni-vechta.de und bekommen dann den Zugangslink zur 
 Veranstaltung (bitte unbedingt die Unimailadresse nutzen und den Titel des 
 gewünschten Workshops angeben!)\n\nFortbildungsreihe Bildung für nachhaltig
 e Entwicklung – Universität meets Praxis\n\n 	 		 			 			9. Mai, 16:00-17:3
 0 Uhr 			Lukas Scherak 			  			 			 			Die 17 Nachhaltigkeitsziele als Quer
 schnittsthema für den fachübergreifenden Unterricht – Methoden und praktisc
 he Umsetzung (zur Anmeldung) 			  			 		 		 			 			23. Mai, 16:00-17:30 Uhr
  			Kim Nolting 			 			 			BNE im Unterricht: Die Mystery-Methode (zur Anme
 ldung) 			  			 		 		 			 			08. Juni, 16:00-17:30 Uhr 			Esther Barth 			 
 			 			Außerschulisches Lernen auf dem Bauernhof – Theorie und Praxis (zur 
 Anmeldung) 			  			 		 		 			 			22. Juni, 16:00-17:30 Uhr 			Prof. Dr. Mar
 co Rieckmann 			 			 			Bildung für nachhaltige Entwicklung – Konzeptionell
 e Grundlagen und praktische Beispiele (zur Anmeldung) 			  			 		 	 \n\n\n\
 nAlle Angebote sind kostenfrei. Wir freuen uns über Ihr Interesse und Ihre 
 Anmeldung.
DTSTAMP:20240521T122657Z
DTSTART:20220509T140000Z
DTEND:20220622T160000Z
END:VEVENT
END:VCALENDAR
