BEGIN:VCALENDAR
VERSION:2.0
PRODID:https://github.com/derhansen/sf_event_mgt
METHOD:PUBLISH
BEGIN:VEVENT
UID:623214-3425@www.uni-vechta.de
CLASS: PUBLIC
SUMMARY:5. Pädagogischer Tag: „Schulische Innovationsprozesse in einer digi
 tal geprägten Welt“
DESCRIPTION:Einladung zum 5. Pädagogischen Tag am 29.April 2022 von 9.00 – 
 12.30 Uhr zum Thema\n\n„Schulische Innovationsprozesse in einer digital gep
 rägten Welt“\n\nMit dem Pädagogischen Tag greift das Zentrum für Lehrer*inn
 enbildung jährlich aktuelle gesellschaftliche und bildungsbezogene Themen a
 uf, um Studium, Schulpraxis und wissenschaftliche Forschung miteinander zu 
 verzahnen. Der Studientag richtet sich an alle Studierenden der Praxisphase
  sowie interessierte Lehrende und Wissenschaftler*innen der Universität.\n\
 n \n\nDer diesjährige Pädagogische Tag steht unter dem Rahmenthema „Schulis
 che Innovationsprozesse in einer digital geprägten Welt“ und ist damit ansc
 hlussfähig an eine der universitären Querschnittsdimensionen. Drei Impulsvo
 rträge nähern sich dem Thema zunächst aus einer grundlegenden, einer forsch
 ungsorientierten und einer praktischen Perspektiven, um sich in einer ansch
 ließenden Diskussion mit Expert*innen aus unterschiedlichen Forschungs-, Fa
 ch- und Lehrgebieten übergreifend mit Gelingensbedingungen von Schulentwick
 lungsprozessen und Fragen der Digitalisierung zu befassen. Der Pädagogische
  Tag findet im digitalen Raum statt.\n\n \n\nProgramm\n\nBegrüßung\n\n„Was 
 benötigen (angehende) Lehrkräfte, um Innovationen an Schulen voranzubringen
 ?“ (Dr.in Ulrike Hartmann, DIPF | Leibniz-Institut für Bildungsforschung un
 d Bildungsinformation)\n\n„Praxisorientierte Schulentwicklung in einer digi
 tal geprägten Welt“ (Prof. Dr. Franco Rau, Universität Vechta)\n\n„Schule 2
 022 - Unterricht in digitaler Form“\n\n(Sascha Oellerich, Heinrich-von-Oyth
 a-Schule Oberschule Friesoythe)\n\nModerierte Abschlussdiskussion\n\n\n\nWe
 itere Informationen zum zeitlichen Ablauf finden Sie hier.\n\n\n\nZielgrupp
 e\n\nAlle Studierenden, die aktuell die Praxisphase absolvieren, sowie alle
  interessierten Lehrenden und Wissenschaftler*innen der Universität sind he
 rzlich zur Veranstaltung eingeladen.\n\n \n\nAnmeldung\n\nStudierende der P
 raxisphase sind schon automatisch für die Veranstaltung angemeldet. Alle an
 deren melden sich bitte bis zum 10.04.2022 per E-Mail bei Kerstin Stoltz un
 ter info.zflb@uni-vechta.de an.
DTSTAMP:20240521T122657Z
DTSTART:20220429T070000Z
DTEND:20220429T103000Z
END:VEVENT
END:VCALENDAR
