BEGIN:VCALENDAR
VERSION:2.0
PRODID:https://github.com/derhansen/sf_event_mgt
METHOD:PUBLISH
BEGIN:VEVENT
UID:27067607-3928@www.uni-vechta.de
CLASS: PUBLIC
SUMMARY:Workshop - Erfolgreich Publizieren in Peer-reviewed Zeitschriften
DESCRIPTION:Das Peer Review ist ein wichtiges Qualitätsinstrument wissensch
 aftlicher Publikationen und wird von hochrangigen wissenschaftlichen Zeitsc
 hriften national und international angewendet. Im Workshop soll für Nachwuc
 hswissenschaftler*innen der Prozess von der Auswahl der Zeitschrift bis zum
  Umgang mit den Gutachten thematisiert werden, praktische Übungen zu den ei
 nzelnen Schritten durchgeführt werden und Fragen durch eine erfahrene Forsc
 hende beantwortet werden. Schließlich soll das Thema Publikationsdruck, Pub
 likationsstrategien in einer digitalisierten Welt sowie der Umgang mit Able
 hnungen gemeinsam mit den Workshopteilnehmer*innen thematisiert werden.\n\n
 \n\nAnmeldung unter: Workshop - Anmeldung\n\nReferntin: Prof.in Dr.in Rapha
 ela Porsch\n\nOrt: Medienkompetenzzentrum Vechta (MKV)
DTSTAMP:20251107T110439Z
DTSTART:20251203T083000Z
DTEND:20251203T120000Z
END:VEVENT
END:VCALENDAR
