BEGIN:VCALENDAR
VERSION:2.0
PRODID:https://github.com/derhansen/sf_event_mgt
METHOD:PUBLISH
BEGIN:VEVENT
UID:22373681-4876@www.uni-vechta.de
CLASS: PUBLIC
SUMMARY:💡 Abschlussarbeit in Sicht? – Wir unterstützen dich bei der Themenf
 indung!
DESCRIPTION:Du planst eine Bachelor- oder Masterarbeit in den Erziehungswis
 senschaften oder im Master of Education und suchst nach spannenden Themen o
 der passenden Ansprechpartner:innen?\n\nDann komm zu unserer Infoveranstalt
 ung für Abschlussarbeiten!\n\n🗓 Freitag, 27. Juni 2025 🕐 13:00 Uhr (s.t.) 🌐
  Online unter: https://webmeetings.uni-vechta.de/b/zim-czg-uer-d2s\n\nIn di
 eser kompakten, ca. einstündigen Veranstaltung stellen sich die Arbeitseinh
 eiten der Erziehungswissenschaften vor und geben dir einen Einblick,\n\n 	w
 elche Themenfelder für Abschlussarbeiten möglich sind, 	mit welchen Methode
 n gearbeitet wird, 	und wie du die passende Betreuung findest. \n\n👩‍🏫👨‍🏫 D
 as Angebot richtet sich an alle Studierenden, die im Fach Erziehungswissens
 chaft oder im Master of Education eine Abschlussarbeit planen – egal ob du 
 gerade erst mit der Themenfindung beginnst oder schon eine grobe Idee hast.
 \n\n📌 Tipp: Nutze die Gelegenheit, um offene Fragen zu klären und dich gezi
 elt auf deine Abschlussarbeit vorzubereiten!\n\nWir freuen uns auf dich!
DTSTAMP:20250612T055545Z
DTSTART:20250602T072158Z
DTEND:20250602T082158Z
END:VEVENT
END:VCALENDAR
