BEGIN:VCALENDAR
VERSION:2.0
PRODID:https://github.com/derhansen/sf_event_mgt
METHOD:PUBLISH
BEGIN:VEVENT
UID:35276028-7888@www.uni-vechta.de
CLASS: PUBLIC
SUMMARY:Workshop (Lehrende): DLHN on Tour - Deep-Dive: Prüfungsrecht & KI
DESCRIPTION:Deep-Dive: Prüfungsrecht & KI\n\n📅 28. Mai 2026 \n\n🕙 10:00 – 1
 5:00 Uhr\n\nDieser Workshop verbindet prüfungsrechtliche Grundlagen mit akt
 ueller Rechtsprechung und didaktischen Lösungsansätzen. Sie erhalten klare 
 Vorstellungen zu den Möglichkeiten in Zeiten von KI. Zudem gibt es Raum für
  kollegialen Austausch, um gemeinsam Lösungen für die eigene Fachpraxis zu 
 entwickeln.\n\nAnmeldung & Kontakt: Bitte melden Sie sich zur besseren Plan
 ung möglichst bis zum 30. April an bei: 📧 Kira.baresel@uni-vechta.\n\n\n\nD
 ie Workshop-Reihe „DLHN on Tour" bringt gemeinsam entwickelte Inhalte aus d
 em Teilprojekt „KI in Studium, Lehre und Prüfungen“ direkt an die Standorte
 .\n\n\n\n
DTSTAMP:20260422T132236Z
DTSTART:20260528T080000Z
DTEND:20260528T130000Z
END:VEVENT
END:VCALENDAR
