BEGIN:VCALENDAR
VERSION:2.0
PRODID:https://github.com/derhansen/sf_event_mgt
METHOD:PUBLISH
BEGIN:VEVENT
UID:35276027-7888@www.uni-vechta.de
CLASS: PUBLIC
SUMMARY:Workshop (Lehrende): DLHN on Tour - Deep-Dive: Generative KI techni
 sch verstehen
DESCRIPTION:Generative KI technisch verstehen\n\n📅 27. Mai 2026\n\n🕙 10:00 
 – 15:00 Uhr\n\nDieser Workshop entschlüsselt die technischen Grundlagen gen
 erativer KI, um fundierte Einsatzentscheidungen treffen zu können. Besonder
 e Vorkenntnisse sind nicht nötig. Neben technischem Grundwissen stellen wir
  verschiedene Funktionen vor – es bleibt nicht bei der Theorie: Es ist ausr
 eichend Zeit zum Ausprobieren, Diskutieren und Einordnen der Implikationen 
 eingeplant.\n\nAnmeldung & Kontakt: Bitte melden Sie sich zur besseren Plan
 ung möglichst bis zum 30. April an bei: 📧 Kira.baresel@uni-vechta.de\n\nDie
  Workshop-Reihe „DLHN on Tour" bringt gemeinsam entwickelte Inhalte aus dem
  Teilprojekt „KI in Studium, Lehre und Prüfungen“ direkt an die Standorte. 
DTSTAMP:20260422T132030Z
DTSTART:20260527T080000Z
DTEND:20260527T130000Z
END:VEVENT
END:VCALENDAR
