BEGIN:VCALENDAR
VERSION:2.0
PRODID:https://github.com/derhansen/sf_event_mgt
METHOD:PUBLISH
BEGIN:VEVENT
UID:8806082-7480@www.uni-vechta.de
CLASS: PUBLIC
SUMMARY:Let's talk: "Mehr als Sprache: KI, Kreativität und Subjektivierungs
 weisen"
DESCRIPTION:Mit dem Aufkommen und der zunehmenden Verbreitung von KI-System
 en in kreativ-künstlerischen Bereichen werden immer wieder (bereits bekannt
 e) Fragen nach Urheberrecht und Autor:innenschaft, nach Kreativität oder na
 ch dem Wert und der Bedeutung des einzelnen Werkes aufgeworfen. Dabei wird 
 vor allem die Position des Menschen – Kreativ- und Kunstschaffender im Beso
 nderen – in einer durch digitale Technologien geprägten Welt zur Dispositio
 n gestellt und nicht selten auch in subjekttheoretischer Perspektive nahezu
  reflexartig seine Verdrängung proklamiert. Vor diesem Hintergrund widmet s
 ich der Vortrag „Mehr als Sprache“ der Frage, inwiefern es einer angemessen
 en Sprache bedarf, um die Rolle des Menschen im Zusammenspiel mit KI sowohl
  wissenschaftsanalytisch als auch gesellschaftspraktisch und lebensweltlich
  zu verstehen, ohne Mythen über Technologie zu reproduzieren, sondern diese
  zu entschlüsseln..\n\nFür Studierende, Hochschullehrende, Bildungsforscher
 :innen sowie Bildungspolitiker:innen bietet der Vortrag wertvolle Einblicke
 . Er ist besonders empfehlenswert für diejenigen, die sich über eine instru
 mentelle Perspektive hinaus mit der kritischen Reflexion von KI-Systemen im
  Kontext von Bildungsprozessen auseinandersetzen wollen.\n\nWir freuen uns 
 darauf, diesen Beitrag in der Ringvorlesung „Let’s talk about KI“ mit der g
 roßzügigen Unterstützung durch die zentrale Studienkommission (ZSK) und das
  durch das Niedersächsische Ministerium für Wissenschaft und Kultur geförde
 rte Projekt „Beyond Prompting“ präsentieren zu können. Wir laden Sie ein, d
 urch Ihre Teilnahme diesen Dialog zum Zusammenhang von KI und Kreativität. 
 Wir freuen uns auf Ihre Beiträge!"\n\n \n\nVeranstaltungsdaten\n\n 	 		 			
  			Format 			 			 			Hybrider Vortrag und offene Diskussion 			 		 		 			 
 			Datum 			 			 			12. Juni 2024 			 		 		 			 			Uhrzeit 			 			 			18:15
  Uhr - 19:45 Uhr 			 		 		 			 			Livestream 			 			via YouTube 		 		 			Pr
 äsenzteilnahme 			Anmeldung via Mail an info@mkv-vechta.de 		 	 \n\n \n\nZu
 r Expertise von Juliane Ahlborn zu algorithmischer Artikulation\n\nJuliane 
 Ahlborn, M.A. forscht und lehrt an der Universität Bielefeld in der Erziehu
 ngs- und Medienwissenschaft. Sie promoviert zu algorithmischer Artikulation
  und der Berechenbarkeit der Künste. Dabei geht es darum zu ergründen, wie 
 man sich dem Zusammenspiel von Künstler:innen und KI als komplexe Form des 
 Ausdrucks analytisch nähern kann.\n\nZur Expertise von Prof. Dr. Dan Verstä
 ndig zu Bildungsprozessen und Digitaltiät\n\nDan Verständig ist Professor f
 ür Erziehungswissenschaft mit dem Schwerpunkt Allgemeine Medienpädagogik an
  der Universität Bielefeld. Seine Arbeitsschwerpunkte liegen in der Bildung
 stheorie, digitalen Ungleichheitsforschung und Software Studies.
DTSTAMP:20240521T122657Z
DTSTART:20240612T161500Z
DTEND:20240612T174500Z
END:VEVENT
END:VCALENDAR
