BEGIN:VCALENDAR
VERSION:2.0
PRODID:https://github.com/derhansen/sf_event_mgt
METHOD:PUBLISH
BEGIN:VEVENT
UID:8806091-7480@www.uni-vechta.de
CLASS: PUBLIC
SUMMARY:Fortbildung: KI als Freund und Feind von Fake News? Ansätze zur Med
 ienbildung
DESCRIPTION:In der heutigen Informationsflut spielt Künstliche Intelligenz 
 (KI) eine zentrale Rolle sowohl bei der Bekämpfung als auch bei der Verbrei
 tung von Fake News. Dieser Workshop widmet sich der doppelten Natur der KI 
 und bietet Lehrkräften praktische Werkzeuge und Methoden, um Desinformation
 en zu identifizieren und zu verstehen. Durch interaktive Übungen mit digita
 len Tools, wie z.B. "WhichFaceIsReal?", erlernen Teilnehmende, wie Falschin
 formationen entlarvt und die dahinterstehenden Mechanismen aufgedeckt werde
 n können. Gleichzeitig beleuchten wir, wie solche Fake News erstellt werden
 , um ein Bewusstsein für die Leichtigkeit der Informationsmanipulation zu s
 chaffen. Der Workshop zielt darauf ab, Lehrkräfte in ihrer Rolle zu stärken
 , medienbezogene Erziehungs- und Bildungsaufgaben des digitalen Zeitalters 
 wahrzunehmen.\n\nDieser Workshop richtet sich an Lehrkräfte des gesamten Se
 kundarstufen I-Bereichs mit grundlegendem Wissen zur Nutzung digitaler Werk
 zeuge und KI-basierter Anwendungen. Er ist speziell darauf ausgerichtet, Le
 hrkräften fachübergreifende Impulse zu geben, die zur Förderung der Recherc
 he- und Informationskompetenz ihrer Schüler:innen in einer digitalen Welt b
 eitragen.\n\nDie Veranstaltung ist ein Bestandteil der Fortbildungsreihe „D
 igitale Kompetenzen für Lehrkräfte: Künstliche Intelligenz in Schule und Un
 terricht“ und wird im Rahmen des Projekts „Beyond Prompting“ durch das nied
 ersächsische Ministerium für Wissenschaft und Kultur (MWK) gefördert. Der W
 orkshop ist Teil des Erweiterungsmoduls, das fachübergreifende Einblicke un
 d Anwendungsbeispiele zur Medienbildung im Sinne eines Lernens mit und über
  KI bietet. Sie sind herzlich zu weiteren Veranstaltungen der Fortbildungsr
 eihe eingeladen, um sich mit KI zu fachspezifischen und überfachlichen Frag
 en auseinanderzusetzen.\n\n \n\nVeranstaltungsdaten\n\n 	 		 			 			Format 
 			 			 			Workshop 			 		 		 			 			Datum 			 			 			5. Juni 2024 			 		 	
 	 			 			Uhrzeit 			 			 			16:15 Uhr - 17:45 Uhr 			 		 		 			 			Teilnahm
 ekosten 			 			 			Keine 			 		 		 			 			Anmeldung 			 			 			via Niedersä
 chsiches LernCenter (NLC) oder per Mail an info@mkv-vechta.de 			 		 	 
DTSTAMP:20240521T122657Z
DTSTART:20240605T141500Z
DTEND:20240605T154500Z
END:VEVENT
END:VCALENDAR
